{
 "currentVersion": 10.3,
 "serviceDescription": "",
 "mapName": "Layers",
 "description": "",
 "copyrightText": "",
 "supportsDynamicLayers": false,
 "layers": [],
 "tables": [],
 "spatialReference": {
  "wkid": 4549,
  "latestWkid": 4549
 },
 "singleFusedMapCache": true,
 "tileInfo": {
  "rows": 256,
  "cols": 256,
  "dpi": 96,
  "format": "PNG24",
  "compressionQuality": 0,
  "origin": {
   "x": -5123200,
   "y": 10002100
  },
  "spatialReference": {
   "wkid": 4549,
   "latestWkid": 4549
  },
  "lods": [
   {
    "level": 0,
    "resolution": 0.21166709000084669,
    "scale": 800
   },
   {
    "level": 1,
    "resolution": 0.10583354500042334,
    "scale": 400
   },
   {
    "level": 2,
    "resolution": 0.05291677250021167,
    "scale": 200
   },
   {
    "level": 3,
    "resolution": 0.026458386250105836,
    "scale": 100
   },
   {
    "level": 4,
    "resolution": 0.013229193125052918,
    "scale": 50
   }
  ]
 },
 "initialExtent": {
  "xmin": -10.766533050038973,
  "ymin": 36.100796966146554,
  "xmax": 226.09719405097752,
  "ymax": 137.44463449008146,
  "spatialReference": {
   "wkid": 4549,
   "latestWkid": 4549
  }
 },
 "fullExtent": {
  "xmin": "NaN",
  "ymin": "NaN",
  "xmax": "NaN",
  "ymax": "NaN",
  "spatialReference": {
   "wkid": 4549,
   "latestWkid": 4549
  }
 },
 "minScale": 800,
 "maxScale": 50,
 "units": "esriMeters",
 "supportedImageFormatTypes": "PNG32,PNG24,PNG,JPG,DIB,TIFF,EMF,PS,PDF,GIF,SVG,SVGZ,BMP",
 "documentInfo": {
  "Title": "",
  "Author": "",
  "Comments": "",
  "Subject": "",
  "Category": "",
  "AntialiasingMode": "Best",
  "TextAntialiasingMode": "Force",
  "Keywords": ""
 },
 "capabilities": "Map,Query,Data",
 "supportedQueryFormats": "JSON, AMF",
 "exportTilesAllowed": false,
 "maxRecordCount": 1000,
 "maxImageHeight": 4096,
 "maxImageWidth": 4096,
 "supportedExtensions": ""
}
