View In:
ArcGIS JavaScript
ArcGIS.com Map
Google Earth
ArcMap
ArcGIS Explorer
View Footprint In:
ArcGIS.com Map
Service Description:
Map Name: 图层
Legend
All Layers and Tables
Layers:
Description:
Copyright Text:
Spatial Reference:
102100
(3857)
Single Fused Map Cache: true
Tile Info:
- Height: 256
- Width: 256
- DPI: 96
-
Levels of Detail: 20
-
Level ID: 0
[ Start Tile, End Tile ]
- Resolution: 156543.03392800014
- Scale: 5.91657527591555E8
-
Level ID: 1
[ Start Tile, End Tile ]
- Resolution: 78271.51696399994
- Scale: 2.95828763795777E8
-
Level ID: 2
[ Start Tile, End Tile ]
- Resolution: 39135.75848200009
- Scale: 1.47914381897889E8
-
Level ID: 3
[ Start Tile, End Tile ]
- Resolution: 19567.87924099992
- Scale: 7.3957190948944E7
-
Level ID: 4
[ Start Tile, End Tile ]
- Resolution: 9783.93962049996
- Scale: 3.6978595474472E7
-
Level ID: 5
[ Start Tile, End Tile ]
- Resolution: 4891.96981024998
- Scale: 1.8489297737236E7
- Format: PNG24
- Compression Quality: 0.0
- Origin: X: -2.0037508342787E7
Y: 2.0037508342787E7
- Spatial Reference: 102100
(3857)
Initial Extent:
XMin: 1.3506340481399277E7
YMin: 3662126.117481951
XMax: 1.3522334526674869E7
YMax: 3667849.1958093573
Spatial Reference: 102100
(3857)
Full Extent:
XMin: 1.3503841901700001E7
YMin: 3653036.8479999974
XMax: 1.3537106583999999E7
YMax: 3675017.4250999987
Spatial Reference: 102100
(3857)
Units: esriMeters
Supported Image Format Types: PNG32,PNG24,PNG,JPG,DIB,TIFF,EMF,PS,PDF,GIF,SVG,SVGZ,BMP
Document Info:
Title:
Author:
Comments:
Subject:
Category:
Keywords:
AntialiasingMode: Best
TextAntialiasingMode: Force
Supports Dynamic Layers: false
MaxRecordCount: 1000
MaxImageHeight: 4096
MaxImageWidth: 4096
Supported Query Formats: JSON, AMF
Min Scale: 72223.819286
Max Scale: 1128.497176
Child Resources:
Info
Supported Operations:
Export Map
Identify
Find
Return Updates