{
 "currentVersion": 10.3,
 "serviceDescription": "",
 "mapName": "Layers",
 "description": "",
 "copyrightText": "",
 "supportsDynamicLayers": false,
 "layers": [],
 "tables": [],
 "spatialReference": {
  "wkt": "PROJCS[\"shanghaicity\",GEOGCS[\"GCS_Beijing_1954\",DATUM[\"D_Beijing_1954\",SPHEROID[\"Krasovsky_1940\",6378245.0,298.3]],PRIMEM[\"Greenwich\",0.0],UNIT[\"Degree\",0.0174532925199433]],PROJECTION[\"Transverse_Mercator\"],PARAMETER[\"False_Easting\",-3457147.81],PARAMETER[\"False_Northing\",0.0],PARAMETER[\"Central_Meridian\",121.2751921],PARAMETER[\"Scale_Factor\",1.0],PARAMETER[\"Latitude_Of_Origin\",0.0],UNIT[\"Meter\",1.0]]"
 },
 "singleFusedMapCache": true,
 "tileInfo": {
  "rows": 256,
  "cols": 256,
  "dpi": 96,
  "format": "PNG24",
  "compressionQuality": 0,
  "origin": {
   "x": -9080400,
   "y": 10002300
  },
  "spatialReference": {
   "wkt": "PROJCS[\"shanghaicity\",GEOGCS[\"GCS_Beijing_1954\",DATUM[\"D_Beijing_1954\",SPHEROID[\"Krasovsky_1940\",6378245.0,298.3]],PRIMEM[\"Greenwich\",0.0],UNIT[\"Degree\",0.0174532925199433]],PROJECTION[\"Transverse_Mercator\"],PARAMETER[\"False_Easting\",-3457147.81],PARAMETER[\"False_Northing\",0.0],PARAMETER[\"Central_Meridian\",121.2751921],PARAMETER[\"Scale_Factor\",1.0],PARAMETER[\"Latitude_Of_Origin\",0.0],UNIT[\"Meter\",1.0]]"
  },
  "lods": [
   {
    "level": 0,
    "resolution": 67.73346880027094,
    "scale": 256000
   },
   {
    "level": 1,
    "resolution": 33.86673440013547,
    "scale": 128000
   }
  ]
 },
 "initialExtent": {
  "xmin": -42938.706605673935,
  "ymin": 3891.016676834546,
  "xmax": 18241.329174311053,
  "ymax": 30067.331985556695,
  "spatialReference": {
   "wkt": "PROJCS[\"shanghaicity\",GEOGCS[\"GCS_Beijing_1954\",DATUM[\"D_Beijing_1954\",SPHEROID[\"Krasovsky_1940\",6378245.0,298.3]],PRIMEM[\"Greenwich\",0.0],UNIT[\"Degree\",0.0174532925199433]],PROJECTION[\"Transverse_Mercator\"],PARAMETER[\"False_Easting\",-3457147.81],PARAMETER[\"False_Northing\",0.0],PARAMETER[\"Central_Meridian\",121.2751921],PARAMETER[\"Scale_Factor\",1.0],PARAMETER[\"Latitude_Of_Origin\",0.0],UNIT[\"Meter\",1.0]]"
  }
 },
 "fullExtent": {
  "xmin": "NaN",
  "ymin": "NaN",
  "xmax": "NaN",
  "ymax": "NaN",
  "spatialReference": {
   "wkt": "PROJCS[\"shanghaicity\",GEOGCS[\"GCS_Beijing_1954\",DATUM[\"D_Beijing_1954\",SPHEROID[\"Krasovsky_1940\",6378245.0,298.3]],PRIMEM[\"Greenwich\",0.0],UNIT[\"Degree\",0.0174532925199433]],PROJECTION[\"Transverse_Mercator\"],PARAMETER[\"False_Easting\",-3457147.81],PARAMETER[\"False_Northing\",0.0],PARAMETER[\"Central_Meridian\",121.2751921],PARAMETER[\"Scale_Factor\",1.0],PARAMETER[\"Latitude_Of_Origin\",0.0],UNIT[\"Meter\",1.0]]"
  }
 },
 "minScale": 256000,
 "maxScale": 128000,
 "units": "esriMeters",
 "supportedImageFormatTypes": "PNG32,PNG24,PNG,JPG,DIB,TIFF,EMF,PS,PDF,GIF,SVG,SVGZ,BMP",
 "documentInfo": {
  "Title": "",
  "Author": "",
  "Comments": "",
  "Subject": "",
  "Category": "",
  "AntialiasingMode": "Best",
  "TextAntialiasingMode": "Force",
  "Keywords": ""
 },
 "capabilities": "Map,Query,Data",
 "supportedQueryFormats": "JSON, AMF",
 "exportTilesAllowed": false,
 "maxRecordCount": 1000,
 "maxImageHeight": 4096,
 "maxImageWidth": 4096,
 "supportedExtensions": ""
}
