View In:
ArcGIS JavaScript
ArcGIS.com Map
Google Earth
ArcMap
ArcGIS Explorer
View Footprint In:
ArcGIS.com Map
Service Description:
Map Name: Layers
Legend
All Layers and Tables
Layers:
Description:
Copyright Text:
Spatial Reference:
4326
(4326)
Single Fused Map Cache: true
Tile Info:
- Height: 256
- Width: 256
- DPI: 96
-
Levels of Detail: 6
-
Level ID: 0
[ Start Tile, End Tile ]
- Resolution: 8.592705269580617E-5
- Scale: 36111.9818670124
-
Level ID: 1
[ Start Tile, End Tile ]
- Resolution: 4.296352634790308E-5
- Scale: 18055.9909335062
-
Level ID: 2
[ Start Tile, End Tile ]
- Resolution: 2.148176317395154E-5
- Scale: 9027.9954667531
-
Level ID: 3
[ Start Tile, End Tile ]
- Resolution: 1.074088158697577E-5
- Scale: 4513.99773337655
-
Level ID: 4
[ Start Tile, End Tile ]
- Resolution: 5.370440793487897E-6
- Scale: 2256.99886668828
-
Level ID: 5
[ Start Tile, End Tile ]
- Resolution: 2.6852203967439486E-6
- Scale: 1128.49943334414
- Format: JPEG
- Compression Quality: 75.0
- Origin: X: -180.0
Y: 90.0
- Spatial Reference: 4326
(4326)
Initial Extent:
XMin: 120.25869523814313
YMin: 30.735161680637265
XMax: 120.37821651862984
YMax: 30.786299714216934
Spatial Reference: 4326
(4326)
Full Extent:
XMin: NaN
YMin: NaN
XMax: NaN
YMax: NaN
Spatial Reference: 4326
(4326)
Units: esriDecimalDegrees
Supported Image Format Types: PNG32,PNG24,PNG,JPG,DIB,TIFF,EMF,PS,PDF,GIF,SVG,SVGZ,BMP
Document Info:
Title:
Author:
Comments:
Subject:
Category:
Keywords:
AntialiasingMode: Best
TextAntialiasingMode: Force
Supports Dynamic Layers: false
MaxRecordCount: 1000
MaxImageHeight: 4096
MaxImageWidth: 4096
Supported Query Formats: JSON, AMF
Min Scale: 36111.9818670124
Max Scale: 1128.49943334414
Child Resources:
Info
Supported Operations:
Export Map
Identify
Find
Return Updates