{
 "currentVersion": 10.3,
 "serviceDescription": "",
 "mapName": "Layers",
 "description": "",
 "copyrightText": "",
 "supportsDynamicLayers": false,
 "layers": [
  {
   "id": 5,
   "name": "L20",
   "parentLayerId": -1,
   "defaultVisibility": true,
   "subLayerIds": [
    6,
    7,
    8,
    9,
    10,
    11,
    12,
    13,
    14
   ],
   "minScale": 1129,
   "maxScale": 566
  }
 ],
 "tables": [],
 "spatialReference": {
  "wkid": 4326,
  "latestWkid": 4326
 },
 "singleFusedMapCache": true,
 "tileInfo": {
  "rows": 256,
  "cols": 256,
  "dpi": 96,
  "format": "JPEG",
  "compressionQuality": 75,
  "origin": {
   "x": -180,
   "y": 90
  },
  "spatialReference": {
   "wkid": 4326,
   "latestWkid": 4326
  },
  "lods": [
   {
    "level": 0,
    "resolution": 8.592705269580617E-5,
    "scale": 36111.9818670124
   },
   {
    "level": 1,
    "resolution": 4.296352634790308E-5,
    "scale": 18055.9909335062
   },
   {
    "level": 2,
    "resolution": 2.148176317395154E-5,
    "scale": 9027.9954667531
   },
   {
    "level": 3,
    "resolution": 1.074088158697577E-5,
    "scale": 4513.99773337655
   },
   {
    "level": 4,
    "resolution": 5.370440793487897E-6,
    "scale": 2256.99886668828
   },
   {
    "level": 5,
    "resolution": 2.6852203967439486E-6,
    "scale": 1128.49943334414
   }
  ]
 },
 "initialExtent": {
  "xmin": 120.25869523814313,
  "ymin": 30.735161680637265,
  "xmax": 120.37821651862984,
  "ymax": 30.786299714216934,
  "spatialReference": {
   "cs": "gcs",
   "wkid": 4326
  }
 },
 "fullExtent": {
  "xmin": "NaN",
  "ymin": "NaN",
  "xmax": "NaN",
  "ymax": "NaN",
  "spatialReference": {
   "cs": "gcs",
   "wkid": 4326
  }
 },
 "minScale": 36111.9818670124,
 "maxScale": 1128.49943334414,
 "units": "esriDecimalDegrees",
 "supportedImageFormatTypes": "PNG32,PNG24,PNG,JPG,DIB,TIFF,EMF,PS,PDF,GIF,SVG,SVGZ,BMP",
 "documentInfo": {
  "Title": "",
  "Author": "",
  "Comments": "",
  "Subject": "",
  "Category": "",
  "AntialiasingMode": "Best",
  "TextAntialiasingMode": "Force",
  "Keywords": ""
 },
 "capabilities": "Map,Query,Data",
 "supportedQueryFormats": "JSON, AMF",
 "exportTilesAllowed": false,
 "maxRecordCount": 1000,
 "maxImageHeight": 4096,
 "maxImageWidth": 4096,
 "supportedExtensions": ""
}
