View In:
ArcGIS JavaScript
ArcGIS.com Map
Google Earth
ArcMap
ArcGIS Explorer
View Footprint In:
ArcGIS.com Map
Service Description:
Map Name: Layers
Legend
All Layers and Tables
Layers:
Description:
Copyright Text:
Spatial Reference:
4326
(4326)
Single Fused Map Cache: true
Tile Info:
- Height: 256
- Width: 256
- DPI: 96
-
Levels of Detail: 21
-
Level ID: 0
[ Start Tile, End Tile ]
- Resolution: 0.35195720784202256
- Scale: 1.47914677727283E8
-
Level ID: 1
[ Start Tile, End Tile ]
- Resolution: 0.17597860392101103
- Scale: 7.39573388636414E7
-
Level ID: 2
[ Start Tile, End Tile ]
- Resolution: 0.08798930196050551
- Scale: 3.69786694318207E7
-
Level ID: 3
[ Start Tile, End Tile ]
- Resolution: 0.04399465098025288
- Scale: 1.84893347159104E7
-
Level ID: 4
[ Start Tile, End Tile ]
- Resolution: 0.021997325490126392
- Scale: 9244667.35795518
-
Level ID: 5
[ Start Tile, End Tile ]
- Resolution: 0.010998662745063196
- Scale: 4622333.67897759
-
Level ID: 6
[ Start Tile, End Tile ]
- Resolution: 0.005499331372531586
- Scale: 2311166.83948879
-
Level ID: 7
[ Start Tile, End Tile ]
- Resolution: 0.002749665686265805
- Scale: 1155583.4197444
-
Level ID: 8
[ Start Tile, End Tile ]
- Resolution: 0.0013748328431329002
- Scale: 577791.709872199
-
Level ID: 9
[ Start Tile, End Tile ]
- Resolution: 6.874164215664488E-4
- Scale: 288895.854936099
-
Level ID: 10
[ Start Tile, End Tile ]
- Resolution: 3.4370821078322564E-4
- Scale: 144447.92746805
-
Level ID: 11
[ Start Tile, End Tile ]
- Resolution: 1.7185410539161233E-4
- Scale: 72223.9637340248
-
Level ID: 12
[ Start Tile, End Tile ]
- Resolution: 8.592705269580617E-5
- Scale: 36111.9818670124
-
Level ID: 13
[ Start Tile, End Tile ]
- Resolution: 4.296352634790308E-5
- Scale: 18055.9909335062
-
Level ID: 14
[ Start Tile, End Tile ]
- Resolution: 2.148176317395154E-5
- Scale: 9027.9954667531
-
Level ID: 15
[ Start Tile, End Tile ]
- Resolution: 1.074088158697577E-5
- Scale: 4513.99773337655
-
Level ID: 16
[ Start Tile, End Tile ]
- Resolution: 5.370440793487897E-6
- Scale: 2256.99886668828
-
Level ID: 17
[ Start Tile, End Tile ]
- Resolution: 2.6852203967439486E-6
- Scale: 1128.49943334414
-
Level ID: 18
[ Start Tile, End Tile ]
- Resolution: 1.342610198371972E-6
- Scale: 564.249716672069
-
Level ID: 19
[ Start Tile, End Tile ]
- Resolution: 6.713050991859847E-7
- Scale: 282.124858336034
-
Level ID: 20
[ Start Tile, End Tile ]
- Resolution: 3.3565254959299236E-7
- Scale: 141.062429168017
- Format: PNG8
- Compression Quality: 0.0
- Origin: X: -180.0
Y: 90.0
- Spatial Reference: 4326
(4326)
Initial Extent:
XMin: 118.78017846332018
YMin: 32.187226993779724
XMax: 118.90047306625435
YMax: 32.23869589889227
Spatial Reference: 4326
(4326)
Full Extent:
XMin: NaN
YMin: NaN
XMax: NaN
YMax: NaN
Spatial Reference: 4326
(4326)
Units: esriDecimalDegrees
Supported Image Format Types: PNG32,PNG24,PNG,JPG,DIB,TIFF,EMF,PS,PDF,GIF,SVG,SVGZ,BMP
Document Info:
Title:
Author:
Comments:
Subject:
Category:
Keywords:
AntialiasingMode: Best
TextAntialiasingMode: Force
Supports Dynamic Layers: false
MaxRecordCount: 1000
MaxImageHeight: 4096
MaxImageWidth: 4096
Supported Query Formats: JSON, AMF
Min Scale: 36111.9818670124
Max Scale: 141.062429168017
Child Resources:
Info
Supported Operations:
Export Map
Identify
Find
Return Updates