{
 "currentVersion": 10.3,
 "serviceDescription": "",
 "mapName": "Layers",
 "description": "",
 "copyrightText": "",
 "supportsDynamicLayers": false,
 "layers": [],
 "tables": [],
 "spatialReference": {
  "wkid": 4326,
  "latestWkid": 4326
 },
 "singleFusedMapCache": true,
 "tileInfo": {
  "rows": 256,
  "cols": 256,
  "dpi": 96,
  "format": "JPEG",
  "compressionQuality": 75,
  "origin": {
   "x": -180,
   "y": 90
  },
  "spatialReference": {
   "wkid": 4326,
   "latestWkid": 4326
  },
  "lods": [
   {
    "level": 0,
    "resolution": 4.2915344238281264E-5,
    "scale": 18035.741763839724
   },
   {
    "level": 1,
    "resolution": 2.1457672119140632E-5,
    "scale": 9017.870881919862
   },
   {
    "level": 2,
    "resolution": 1.0728836059570316E-5,
    "scale": 4508.935440959931
   },
   {
    "level": 3,
    "resolution": 5.364418029785158E-6,
    "scale": 2254.4677204799655
   },
   {
    "level": 4,
    "resolution": 2.682209014892579E-6,
    "scale": 1127.2338602399827
   },
   {
    "level": 5,
    "resolution": 1.3411045074462895E-6,
    "scale": 563.6169301199914
   }
  ]
 },
 "initialExtent": {
  "xmin": 121.45440854982466,
  "ymin": 31.244561670870553,
  "xmax": 121.45773979523283,
  "ymax": 31.245986968013042,
  "spatialReference": {
   "wkid": 4326,
   "latestWkid": 4326
  }
 },
 "fullExtent": {
  "xmin": "NaN",
  "ymin": "NaN",
  "xmax": "NaN",
  "ymax": "NaN",
  "spatialReference": {
   "wkid": 4326,
   "latestWkid": 4326
  }
 },
 "minScale": 18035.741763839724,
 "maxScale": 563.6169301199914,
 "units": "esriDecimalDegrees",
 "supportedImageFormatTypes": "PNG32,PNG24,PNG,JPG,DIB,TIFF,EMF,PS,PDF,GIF,SVG,SVGZ,BMP",
 "documentInfo": {
  "Title": "",
  "Author": "",
  "Comments": "",
  "Subject": "",
  "Category": "",
  "AntialiasingMode": "Best",
  "TextAntialiasingMode": "Force",
  "Keywords": ""
 },
 "capabilities": "Map,Query,Data",
 "supportedQueryFormats": "JSON, AMF",
 "exportTilesAllowed": false,
 "maxRecordCount": 1000,
 "maxImageHeight": 4096,
 "maxImageWidth": 4096,
 "supportedExtensions": ""
}
