View In:
ArcGIS JavaScript
ArcGIS.com Map
Google Earth
ArcMap
ArcGIS Explorer
View Footprint In:
ArcGIS.com Map
Service Description:
Map Name: 图层
Legend
All Layers and Tables
Layers:
Description:
Copyright Text:
Spatial Reference:
4326
(4326)
Single Fused Map Cache: true
Tile Info:
- Height: 256
- Width: 256
- DPI: 96
-
Levels of Detail: 6
-
Level ID: 0
[ Start Tile, End Tile ]
- Resolution: 4.2915344238281264E-5
- Scale: 18035.741763839724
-
Level ID: 1
[ Start Tile, End Tile ]
- Resolution: 2.1457672119140632E-5
- Scale: 9017.870881919862
-
Level ID: 2
[ Start Tile, End Tile ]
- Resolution: 1.0728836059570316E-5
- Scale: 4508.935440959931
-
Level ID: 3
[ Start Tile, End Tile ]
- Resolution: 5.364418029785158E-6
- Scale: 2254.4677204799655
-
Level ID: 4
[ Start Tile, End Tile ]
- Resolution: 2.682209014892579E-6
- Scale: 1127.2338602399827
-
Level ID: 5
[ Start Tile, End Tile ]
- Resolution: 1.3411045074462895E-6
- Scale: 563.6169301199914
- Format: PNG24
- Compression Quality: 0.0
- Origin: X: -180.0
Y: 90.0
- Spatial Reference: 4326
(4326)
Initial Extent:
XMin: 121.45185248564707
YMin: 31.242262242302207
XMax: 121.46079847856578
YMax: 31.245233513331566
Spatial Reference: 4326
(4326)
Full Extent:
XMin: NaN
YMin: NaN
XMax: NaN
YMax: NaN
Spatial Reference: 4326
(4326)
Units: esriDecimalDegrees
Supported Image Format Types: PNG32,PNG24,PNG,JPG,DIB,TIFF,EMF,PS,PDF,GIF,SVG,SVGZ,BMP
Document Info:
Title:
Author:
Comments:
Subject:
Category:
Keywords:
AntialiasingMode: Best
TextAntialiasingMode: Force
Supports Dynamic Layers: false
MaxRecordCount: 1000
MaxImageHeight: 4096
MaxImageWidth: 4096
Supported Query Formats: JSON, AMF
Min Scale: 18035.741763839724
Max Scale: 563.6169301199914
Child Resources:
Info
Supported Operations:
Export Map
Identify
Find
Return Updates