{
 "currentVersion": 10.3,
 "serviceDescription": "",
 "mapName": "图层",
 "description": "",
 "copyrightText": "",
 "supportsDynamicLayers": false,
 "layers": [
  {
   "id": 0,
   "name": "L15",
   "parentLayerId": -1,
   "defaultVisibility": true,
   "subLayerIds": [
    1,
    5,
    6,
    7,
    8,
    9,
    10,
    11,
    12,
    13,
    14,
    15,
    16
   ],
   "minScale": 18036,
   "maxScale": 9019
  },
  {
   "id": 1,
   "name": "POI",
   "parentLayerId": 0,
   "defaultVisibility": true,
   "subLayerIds": [
    2,
    3,
    4
   ],
   "minScale": 0,
   "maxScale": 0
  },
  {
   "id": 17,
   "name": "L16",
   "parentLayerId": -1,
   "defaultVisibility": true,
   "subLayerIds": [
    18,
    29,
    30,
    31,
    32,
    33,
    34,
    35,
    36,
    37,
    38,
    39,
    40,
    41
   ],
   "minScale": 9018,
   "maxScale": 4510
  },
  {
   "id": 18,
   "name": "POI",
   "parentLayerId": 17,
   "defaultVisibility": true,
   "subLayerIds": [
    19,
    20,
    21,
    22,
    23,
    24,
    25,
    26,
    27,
    28
   ],
   "minScale": 0,
   "maxScale": 0
  },
  {
   "id": 42,
   "name": "L17",
   "parentLayerId": -1,
   "defaultVisibility": true,
   "subLayerIds": [
    43,
    55,
    56,
    57,
    58,
    59,
    60,
    61,
    62,
    63,
    64,
    65,
    66,
    67,
    68,
    69,
    70
   ],
   "minScale": 4509,
   "maxScale": 2256
  },
  {
   "id": 43,
   "name": "POI",
   "parentLayerId": 42,
   "defaultVisibility": true,
   "subLayerIds": [
    44,
    45,
    46,
    47,
    48,
    49,
    50,
    51,
    52,
    53,
    54
   ],
   "minScale": 0,
   "maxScale": 0
  },
  {
   "id": 71,
   "name": "L18",
   "parentLayerId": -1,
   "defaultVisibility": true,
   "subLayerIds": [
    72,
    81,
    82,
    83,
    84,
    85,
    86,
    87,
    88,
    89,
    90,
    91,
    92,
    93,
    94,
    95,
    96,
    97
   ],
   "minScale": 2255,
   "maxScale": 1129
  },
  {
   "id": 72,
   "name": "POI",
   "parentLayerId": 71,
   "defaultVisibility": true,
   "subLayerIds": [
    73,
    74,
    75,
    76,
    77,
    78,
    79,
    80
   ],
   "minScale": 0,
   "maxScale": 0
  },
  {
   "id": 98,
   "name": "L19",
   "parentLayerId": -1,
   "defaultVisibility": true,
   "subLayerIds": [
    99,
    110,
    111,
    112,
    113,
    114,
    115,
    116,
    117,
    118,
    119,
    120,
    121,
    122,
    123,
    124,
    125,
    126
   ],
   "minScale": 1128,
   "maxScale": 565
  },
  {
   "id": 99,
   "name": "POI",
   "parentLayerId": 98,
   "defaultVisibility": true,
   "subLayerIds": [
    100,
    101,
    102,
    103,
    104,
    105,
    106,
    107,
    108,
    109
   ],
   "minScale": 0,
   "maxScale": 0
  },
  {
   "id": 127,
   "name": "L20",
   "parentLayerId": -1,
   "defaultVisibility": true,
   "subLayerIds": [
    128,
    139,
    140,
    141,
    142,
    143,
    144,
    145,
    146,
    147,
    148,
    149,
    150,
    151,
    152,
    153,
    154,
    155
   ],
   "minScale": 564,
   "maxScale": 0
  },
  {
   "id": 128,
   "name": "POI",
   "parentLayerId": 127,
   "defaultVisibility": true,
   "subLayerIds": [
    129,
    130,
    131,
    132,
    133,
    134,
    135,
    136,
    137,
    138
   ],
   "minScale": 0,
   "maxScale": 0
  }
 ],
 "tables": [],
 "spatialReference": {
  "wkid": 4326,
  "latestWkid": 4326
 },
 "singleFusedMapCache": true,
 "tileInfo": {
  "rows": 256,
  "cols": 256,
  "dpi": 96,
  "format": "PNG24",
  "compressionQuality": 0,
  "origin": {
   "x": -180,
   "y": 90
  },
  "spatialReference": {
   "wkid": 4326,
   "latestWkid": 4326
  },
  "lods": [
   {
    "level": 0,
    "resolution": 4.2915344238281264E-5,
    "scale": 18035.741763839724
   },
   {
    "level": 1,
    "resolution": 2.1457672119140632E-5,
    "scale": 9017.870881919862
   },
   {
    "level": 2,
    "resolution": 1.0728836059570316E-5,
    "scale": 4508.935440959931
   },
   {
    "level": 3,
    "resolution": 5.364418029785158E-6,
    "scale": 2254.4677204799655
   },
   {
    "level": 4,
    "resolution": 2.682209014892579E-6,
    "scale": 1127.2338602399827
   },
   {
    "level": 5,
    "resolution": 1.3411045074462895E-6,
    "scale": 563.6169301199914
   }
  ]
 },
 "initialExtent": {
  "xmin": 121.45185248564707,
  "ymin": 31.242262242302207,
  "xmax": 121.46079847856578,
  "ymax": 31.245233513331566,
  "spatialReference": {
   "wkid": 4326,
   "latestWkid": 4326
  }
 },
 "fullExtent": {
  "xmin": "NaN",
  "ymin": "NaN",
  "xmax": "NaN",
  "ymax": "NaN",
  "spatialReference": {
   "wkid": 4326,
   "latestWkid": 4326
  }
 },
 "minScale": 18035.741763839724,
 "maxScale": 563.6169301199914,
 "units": "esriDecimalDegrees",
 "supportedImageFormatTypes": "PNG32,PNG24,PNG,JPG,DIB,TIFF,EMF,PS,PDF,GIF,SVG,SVGZ,BMP",
 "documentInfo": {
  "Title": "",
  "Author": "",
  "Comments": "",
  "Subject": "",
  "Category": "",
  "AntialiasingMode": "Best",
  "TextAntialiasingMode": "Force",
  "Keywords": ""
 },
 "capabilities": "Map,Query,Data",
 "supportedQueryFormats": "JSON, AMF",
 "exportTilesAllowed": false,
 "maxRecordCount": 1000,
 "maxImageHeight": 4096,
 "maxImageWidth": 4096,
 "supportedExtensions": ""
}
