View In:
ArcGIS JavaScript
ArcGIS.com Map
Google Earth
ArcMap
ArcGIS Explorer
View Footprint In:
ArcGIS.com Map
Service Description:
Map Name: 图层
Legend
All Layers and Tables
Layers:
Description:
Copyright Text:
Spatial Reference:
4326
(4326)
Single Fused Map Cache: true
Tile Info:
- Height: 256
- Width: 256
- DPI: 96
-
Levels of Detail: 8
-
Level ID: 3
[ Start Tile, End Tile ]
- Resolution: 0.0878906250003718
- Scale: 3.69371991325E7
-
Level ID: 4
[ Start Tile, End Tile ]
- Resolution: 0.0439453125001859
- Scale: 1.846859956625E7
-
Level ID: 5
[ Start Tile, End Tile ]
- Resolution: 0.02197265625009295
- Scale: 9234299.783125
-
Level ID: 6
[ Start Tile, End Tile ]
- Resolution: 0.010986328125046475
- Scale: 4617149.8915625
-
Level ID: 7
[ Start Tile, End Tile ]
- Resolution: 0.0054931640625232375
- Scale: 2308574.94578125
- Format: PNG24
- Compression Quality: 0.0
- Origin: X: -400.0
Y: 399.9999999999998
- Spatial Reference: 4326
(4326)
Initial Extent:
XMin: -205.05131546505726
YMin: -48.69296476924799
XMax: 211.35436055524178
YMax: 129.46917804229423
Spatial Reference: 4326
(4326)
Full Extent:
XMin: NaN
YMin: NaN
XMax: NaN
YMax: NaN
Spatial Reference: 4326
(4326)
Units: esriDecimalDegrees
Supported Image Format Types: PNG32,PNG24,PNG,JPG,DIB,TIFF,EMF,PS,PDF,GIF,SVG,SVGZ,BMP
Document Info:
Title:
Author:
Comments:
Subject:
Category:
Keywords:
AntialiasingMode: Best
TextAntialiasingMode: Force
Supports Dynamic Layers: false
MaxRecordCount: 1000
MaxImageHeight: 4096
MaxImageWidth: 4096
Supported Query Formats: JSON, AMF
Min Scale: 2.9549759306E8
Max Scale: 2308574.94578125
Child Resources:
Info
Supported Operations:
Export Map
Identify
Find
Return Updates