{
 "currentVersion": 10.3,
 "serviceDescription": "",
 "mapName": "图层",
 "description": "",
 "copyrightText": "",
 "supportsDynamicLayers": false,
 "layers": [],
 "tables": [],
 "spatialReference": {
  "wkid": 4326,
  "latestWkid": 4326
 },
 "singleFusedMapCache": true,
 "tileInfo": {
  "rows": 256,
  "cols": 256,
  "dpi": 96,
  "format": "PNG24",
  "compressionQuality": 0,
  "origin": {
   "x": -400,
   "y": 399.9999999999998
  },
  "spatialReference": {
   "wkid": 4326,
   "latestWkid": 4326
  },
  "lods": [
   {
    "level": 0,
    "resolution": 0.7031250000029744,
    "scale": 2.9549759306E8
   },
   {
    "level": 1,
    "resolution": 0.3515625000014872,
    "scale": 1.4774879653E8
   },
   {
    "level": 2,
    "resolution": 0.1757812500007436,
    "scale": 7.3874398265E7
   },
   {
    "level": 3,
    "resolution": 0.0878906250003718,
    "scale": 3.69371991325E7
   },
   {
    "level": 4,
    "resolution": 0.0439453125001859,
    "scale": 1.846859956625E7
   },
   {
    "level": 5,
    "resolution": 0.02197265625009295,
    "scale": 9234299.783125
   },
   {
    "level": 6,
    "resolution": 0.010986328125046475,
    "scale": 4617149.8915625
   },
   {
    "level": 7,
    "resolution": 0.0054931640625232375,
    "scale": 2308574.94578125
   }
  ]
 },
 "initialExtent": {
  "xmin": -205.05131546505726,
  "ymin": -48.69296476924799,
  "xmax": 211.35436055524178,
  "ymax": 129.46917804229423,
  "spatialReference": {
   "wkid": 4326,
   "latestWkid": 4326
  }
 },
 "fullExtent": {
  "xmin": "NaN",
  "ymin": "NaN",
  "xmax": "NaN",
  "ymax": "NaN",
  "spatialReference": {
   "wkid": 4326,
   "latestWkid": 4326
  }
 },
 "minScale": 2.9549759306E8,
 "maxScale": 2308574.94578125,
 "units": "esriDecimalDegrees",
 "supportedImageFormatTypes": "PNG32,PNG24,PNG,JPG,DIB,TIFF,EMF,PS,PDF,GIF,SVG,SVGZ,BMP",
 "documentInfo": {
  "Title": "",
  "Author": "",
  "Comments": "",
  "Subject": "",
  "Category": "",
  "AntialiasingMode": "Best",
  "TextAntialiasingMode": "Force",
  "Keywords": ""
 },
 "capabilities": "Map,Query,Data",
 "supportedQueryFormats": "JSON, AMF",
 "exportTilesAllowed": false,
 "maxRecordCount": 1000,
 "maxImageHeight": 4096,
 "maxImageWidth": 4096,
 "supportedExtensions": ""
}
